BEGIN:VCALENDAR
VERSION:2.0
PRODID:-//Carla Rachel Sameth - ECPv6.15.20//NONSGML v1.0//EN
CALSCALE:GREGORIAN
METHOD:PUBLISH
X-WR-CALNAME:Carla Rachel Sameth
X-ORIGINAL-URL:https://carlasameth.com
X-WR-CALDESC:Events for Carla Rachel Sameth
REFRESH-INTERVAL;VALUE=DURATION:PT1H
X-Robots-Tag:noindex
X-PUBLISHED-TTL:PT1H
BEGIN:VTIMEZONE
TZID:America/Los_Angeles
BEGIN:DAYLIGHT
TZOFFSETFROM:-0800
TZOFFSETTO:-0700
TZNAME:PDT
DTSTART:20220313T100000
END:DAYLIGHT
BEGIN:STANDARD
TZOFFSETFROM:-0700
TZOFFSETTO:-0800
TZNAME:PST
DTSTART:20221106T090000
END:STANDARD
BEGIN:DAYLIGHT
TZOFFSETFROM:-0800
TZOFFSETTO:-0700
TZNAME:PDT
DTSTART:20230312T100000
END:DAYLIGHT
BEGIN:STANDARD
TZOFFSETFROM:-0700
TZOFFSETTO:-0800
TZNAME:PST
DTSTART:20231105T090000
END:STANDARD
BEGIN:DAYLIGHT
TZOFFSETFROM:-0800
TZOFFSETTO:-0700
TZNAME:PDT
DTSTART:20240310T100000
END:DAYLIGHT
BEGIN:STANDARD
TZOFFSETFROM:-0700
TZOFFSETTO:-0800
TZNAME:PST
DTSTART:20241103T090000
END:STANDARD
END:VTIMEZONE
BEGIN:VEVENT
DTSTART;TZID=America/Los_Angeles:20230311T152000
DTEND;TZID=America/Los_Angeles:20230311T163000
DTSTAMP:20260425T081918
CREATED:20230326T212713Z
LAST-MODIFIED:20230326T212713Z
UID:1111-1678548000-1678552200@carlasameth.com
SUMMARY:AWP 2023 The ART of Infertility Writing About Reproductive Choice\, Loss\, & Family a nonfiction reading
DESCRIPTION:The ART of InfertilityWriting About Reproductive Choice\, Loss\, & Family\na nonfiction reading with Krys Malcolm Belc\, Jennifer Berney\,\nCheryl E. Klein\, Carla Sameth\, and Robin Silbergleid\n2023 AWP Conference and Bookfair\nSaturday\, March 11\n3:20 – 4:35 pm\nSummit Building 431-432
URL:https://carlasameth.com/event/awp-2023-the-art-of-infertility-writing-about-reproductive-choice-loss-family-a-nonfiction-reading/
LOCATION:Seattle Convention Center\, Seattle\, WA\, United States
END:VEVENT
END:VCALENDAR