BEGIN:VCALENDAR
VERSION:2.0
PRODID:-//Carla Rachel Sameth - ECPv6.15.20//NONSGML v1.0//EN
CALSCALE:GREGORIAN
METHOD:PUBLISH
X-WR-CALNAME:Carla Rachel Sameth
X-ORIGINAL-URL:https://carlasameth.com
X-WR-CALDESC:Events for Carla Rachel Sameth
REFRESH-INTERVAL;VALUE=DURATION:PT1H
X-Robots-Tag:noindex
X-PUBLISHED-TTL:PT1H
BEGIN:VTIMEZONE
TZID:America/Los_Angeles
BEGIN:DAYLIGHT
TZOFFSETFROM:-0800
TZOFFSETTO:-0700
TZNAME:PDT
DTSTART:20180311T100000
END:DAYLIGHT
BEGIN:STANDARD
TZOFFSETFROM:-0700
TZOFFSETTO:-0800
TZNAME:PST
DTSTART:20181104T090000
END:STANDARD
BEGIN:DAYLIGHT
TZOFFSETFROM:-0800
TZOFFSETTO:-0700
TZNAME:PDT
DTSTART:20190310T100000
END:DAYLIGHT
BEGIN:STANDARD
TZOFFSETFROM:-0700
TZOFFSETTO:-0800
TZNAME:PST
DTSTART:20191103T090000
END:STANDARD
BEGIN:DAYLIGHT
TZOFFSETFROM:-0800
TZOFFSETTO:-0700
TZNAME:PDT
DTSTART:20200308T100000
END:DAYLIGHT
BEGIN:STANDARD
TZOFFSETFROM:-0700
TZOFFSETTO:-0800
TZNAME:PST
DTSTART:20201101T090000
END:STANDARD
BEGIN:DAYLIGHT
TZOFFSETFROM:-0800
TZOFFSETTO:-0700
TZNAME:PDT
DTSTART:20210314T100000
END:DAYLIGHT
BEGIN:STANDARD
TZOFFSETFROM:-0700
TZOFFSETTO:-0800
TZNAME:PST
DTSTART:20211107T090000
END:STANDARD
BEGIN:DAYLIGHT
TZOFFSETFROM:-0800
TZOFFSETTO:-0700
TZNAME:PDT
DTSTART:20220313T100000
END:DAYLIGHT
BEGIN:STANDARD
TZOFFSETFROM:-0700
TZOFFSETTO:-0800
TZNAME:PST
DTSTART:20221106T090000
END:STANDARD
END:VTIMEZONE
BEGIN:VEVENT
DTSTART;TZID=America/Los_Angeles:20210414T180000
DTEND;TZID=America/Los_Angeles:20210414T200000
DTSTAMP:20260423T152752
CREATED:20210318T173742Z
LAST-MODIFIED:20210318T173742Z
UID:786-1618423200-1618430400@carlasameth.com
SUMMARY:Poetry in Bloom\, Southern California Poets
DESCRIPTION:Enjoy an evening of Poetry hosted by Gerda Govine Ituarte\n\n\n\n\n\nAbout this Event\n\n\nBonita Museum & Cultural Center Celebrates National Poetry Month \nJoin in for this virtual Poetry Event that you can enjoy from the comfort of your favorite chair.  Register/tickets at link below: \nhttps://www.eventbrite.com/e/poetry-in-bloom-southern-california-poets-tickets-146687525337 \nWednesday\, April 14\, 2021 \n6:00 p.m.-8:00 p.m. \nHost is the poet Gerda Govine Ituarte with: \nThe Pasadena Rose Poets \nTeresa Mei Chuc \nKate Gale \nHazel Clayton Harrison \nShahé Mankerian \nToni Mosley \nCarla Sameth \nAnnette Wong \nAlso\, special guests!
URL:https://carlasameth.com/event/poetry-in-bloom-southern-california-poets/
LOCATION:Zoom\, see registration link in description
END:VEVENT
BEGIN:VEVENT
DTSTART;TZID=America/Los_Angeles:20210327T170000
DTEND;TZID=America/Los_Angeles:20210327T190000
DTSTAMP:20260423T152752
CREATED:20210316T154753Z
LAST-MODIFIED:20210326T181156Z
UID:779-1616864400-1616871600@carlasameth.com
SUMMARY:Sister Flowidarity Women's Herstory Month Poetry Reading
DESCRIPTION:An incredible line-up of dynamic women reciting poetry! \nRSVP here:  bit.ly/sisterflow \nGo to Zoom: 85102126096  Password: SISTERFLOW \nhttps://us02web.zoom.us/j/85102126096?pwd=cWpGS3RLcDQvSVZ4eVVkdkZUL3dQQT09 \n  \n 
URL:https://carlasameth.com/event/sister-flowidarity-event/
LOCATION:Zoom\, see registration link in description
CATEGORIES:Reading
END:VEVENT
BEGIN:VEVENT
DTSTART;TZID=America/Los_Angeles:20210311T190000
DTEND;TZID=America/Los_Angeles:20210311T210000
DTSTAMP:20260423T152752
CREATED:20210310T190700Z
LAST-MODIFIED:20210310T191059Z
UID:772-1615489200-1615496400@carlasameth.com
SUMMARY:Featured Reader\, Canyon Poets
DESCRIPTION:Topic: The Canyon Poets\nTime: March 11\, 7-9 pm\nJoin Zoom Meeting\n\nhttps://us02web.zoom.us/j/81478667183\n\nMeeting ID: 814 7866 7183\nPasscode: 275639
URL:https://carlasameth.com/event/featured-reader-canyon-poets/
LOCATION:Zoom\, see registration link in description
END:VEVENT
BEGIN:VEVENT
DTSTART;TZID=America/Los_Angeles:20210209T110000
DTEND;TZID=America/Los_Angeles:20210209T123000
DTSTAMP:20260423T152752
CREATED:20210203T230515Z
LAST-MODIFIED:20210203T230515Z
UID:764-1612868400-1612873800@carlasameth.com
SUMMARY:The Pasadena Rose Poets: African American Poets
DESCRIPTION:  \nThe Pasadena Rose Poets will present the poetry of African American poets past and present\, along with  some of their own poetry. Presented by Teresa Mei Chuc\, Kate Gale\, Hazel Clayton Harrison\, Gerda Govine Ituarte\, Shahé Mankerian\, Toni Mosley\, Carla Sameth and Annette Wong. \nPresented in Zoom • Sign up here\, and a link to join will be sent to you.\n\n\nhttps://pasadena.evanced.info/signup/EventDetails?EventId=3756 \nThe Pasadena Rose Poets: African American Poets\n\nThis event is sponsored by The Friends of the Pasadena Public Library.\n\n 
URL:https://carlasameth.com/event/the-pasadena-rose-poets-african-american-poets/
LOCATION:Zoom\, see registration link in description
END:VEVENT
BEGIN:VEVENT
DTSTART;TZID=America/Los_Angeles:20210103T120000
DTEND;TZID=America/Los_Angeles:20210103T140000
DTSTAMP:20260423T152752
CREATED:20210130T234338Z
LAST-MODIFIED:20210130T234717Z
UID:745-1609675200-1609682400@carlasameth.com
SUMMARY:Reading for In Isolation: An Anthology
DESCRIPTION:ISReadingFlyer \nAlternative Field presents “In Isolation\, Book Launch Reading” \nPoets featured in the anthology will read their work responding to the virus\, quarantine\, and isolation. \nInstagram Live @Alternative Field \n  \n 
URL:https://carlasameth.com/event/reading-for-in-isolation-an-anthology/
END:VEVENT
BEGIN:VEVENT
DTSTART;TZID=America/Los_Angeles:20201008T160000
DTEND;TZID=America/Los_Angeles:20201008T173000
DTSTAMP:20260423T152752
CREATED:20200922T194419Z
LAST-MODIFIED:20200925T210448Z
UID:727-1602172800-1602178200@carlasameth.com
SUMMARY:Virtual Launch Party: Unspoken Anthology
DESCRIPTION:To see reading\, go to:  https://www.facebook.com/lifein10minutes  \nFor event info: https://www.facebook.com/events/370771367648925   \nVirtual Launch Party: Unspoken AnthologyVirtual Launch Party: Unspoken Anthology \nJoin Life in 10 Minutes for the Virtual of Unspoken: Writers on Infertility\, Miscarriage\, and Stillbirth.\nGathering the voices of 29 writers who have been affected by infertility and childbearing loss\, Unspoken is written as an invitation to connection where silence and isolation has so often prevailed.\nJoining is as simple as tuning into the Life in 10 Minutes Facebook page from 7-8:30 pm EST. Writers will be sharing the following pieces from the anthology:\n“We Have Pets\,” Carla Sameth\n“What to Expect When You’re Expecting a Miscarriage\,” Erin Pushman\n“Emmanuel” by Paula Michelle Gillison\nPoems\, by Alison Blevins\n“The Trauma of Miscarriage\,” by Arden Cartrette\n“Unable to Speak\,” by Dana Arlien\n“Rainbow Baby” – Karen Olshanksy\n“Thistle’s Story” – Jennifer Jurlando\n\n\nHelp us welcome and celebrate these stories of loss and resilience.\nBooks may be pre-ordered at: https://www.lifein10minutes.com/unspoken-anthology
URL:https://carlasameth.com/event/virtual-launch-party-unspoken-anthology/
END:VEVENT
BEGIN:VEVENT
DTSTART;TZID=America/Los_Angeles:20200128T193000
DTEND;TZID=America/Los_Angeles:20200128T193000
DTSTAMP:20260423T152752
CREATED:20191005T210959Z
LAST-MODIFIED:20191118T225714Z
UID:656-1580239800-1580239800@carlasameth.com
SUMMARY:homo-centric Reading Series
DESCRIPTION:Featuring: Sarahmay Griffin\, Carla Sameth and Hank Henderson\, homo-centric Reading Series
URL:https://carlasameth.com/event/homocentric-reading-series/
LOCATION:Stories Books and Cafe\, 1716 Sunset Blvd\, Los Angeles\,\, Los Angeles\, CA\, 90026\, United States
END:VEVENT
BEGIN:VEVENT
DTSTART;TZID=America/Los_Angeles:20200116T180000
DTEND;TZID=America/Los_Angeles:20200116T193000
DTSTAMP:20260423T152752
CREATED:20190621T001634Z
LAST-MODIFIED:20190717T163812Z
UID:548-1579197600-1579203000@carlasameth.com
SUMMARY:San Francisco Public Library\, James C. Hormel LGBTQIA Center Author Reading
DESCRIPTION:James C. Hormel LGBTQIA Center\, San Francisco Public Library \nOne Day on the Gold Line: A Memoir in Essays\, Author Reading with Carla Sameth
URL:https://carlasameth.com/event/san-francisco-public-library-james-c-hormel-lgbtqia-center-author-reading/
LOCATION:San Francisco Public Library James C Hormel LGBTQIA Center\, 100 Larkin Street\, San Francisco\, 94102\, United States
END:VEVENT
BEGIN:VEVENT
DTSTART;TZID=America/Los_Angeles:20191115T183000
DTEND;TZID=America/Los_Angeles:20191115T201500
DTSTAMP:20260423T152752
CREATED:20191108T161510Z
LAST-MODIFIED:20191108T161510Z
UID:663-1573842600-1573848900@carlasameth.com
SUMMARY:Pasadena Rose Poets Poetry Collection 2019 Launch
DESCRIPTION:Pasadena Rose Poets Poetry Collection 2019\nReflection\,  Resistance. Reckoning.  Resurrection.\n​\nedited by Gerda Govine Ituarte\nRelease November 15\, 2019 \nFirst Book Launch\nFriday\, November 15\, 2019\n6:30 – 8:15 p.m.\nVenue: Red Hen Press\n1540 Lincoln Avenue\nPasadena\, CA 91103\n​Published by Shabda Press\n\nThe Pasadena Rose Poets:\nTeresa Mei Chuc\, Mel Donalson\, Kate Gale\, Damian Gonzalez\, Hazel Clayton Harrison\, Gerda Govine Ituarte\, Shahé Mankerian\, Toni Mosley\, Carla Sameth\, and Annette Wong.
URL:https://carlasameth.com/event/pasadena-rose-poets-poetry-collection-2019-launch/
LOCATION:Red Hen Press\, 1540 Lincoln Avenue\, Pasadena\, CA\, 91103\, United States
END:VEVENT
BEGIN:VEVENT
DTSTART;TZID=America/Los_Angeles:20191017T190000
DTEND;TZID=America/Los_Angeles:20191017T210000
DTSTAMP:20260423T152752
CREATED:20190514T175014Z
LAST-MODIFIED:20191001T200319Z
UID:492-1571338800-1571346000@carlasameth.com
SUMMARY:Reading and Book Launch Celebration with the Pasadena Writing Posse and Pasadena Rose Poets
DESCRIPTION:Carla Sameth will read from her memoir\, One Day on the Gold Line: A Memoir in Essays along with members of the Pasadena Writing Posse\, The Pasadena Rose Poets and other local writers including: Gerda Govine Ituarte\, Manuela Gomez\, Gale Cohen\, Maria Elena Fernandez\, Annette Wong\, Hazel Clayton\, Thelma Reyna and Toni Mosley. They will read their original work and there will be an opportunity for Q & A\, discussion and celebration. \n 
URL:https://carlasameth.com/event/reading-and-book-launch-celebration-with-the-pasadena-writing-posse/
LOCATION:Avenue 50 Studio\, 131 North Avenue 50\, Highland Park\, CA\, 90042\, United States
END:VEVENT
BEGIN:VEVENT
DTSTART;TZID=America/Los_Angeles:20191010T180000
DTEND;TZID=America/Los_Angeles:20191010T200000
DTSTAMP:20260423T152752
CREATED:20190731T224104Z
LAST-MODIFIED:20190731T224104Z
UID:609-1570730400-1570737600@carlasameth.com
SUMMARY:Reading at Montana Book Company in Helena
DESCRIPTION:Reading and Signing: One Day on the Gold Line: A Memoir in Essays
URL:https://carlasameth.com/event/reading-at-montana-book-company-in-helena/
LOCATION:Montana Book Company\, 331 N Last Chance Gulch\, Helena\, CA\, 59601\, United States
END:VEVENT
BEGIN:VEVENT
DTSTART;TZID=America/Los_Angeles:20191006T153000
DTEND;TZID=America/Los_Angeles:20191006T161500
DTSTAMP:20260423T152752
CREATED:20191001T201235Z
LAST-MODIFIED:20191001T201235Z
UID:650-1570375800-1570378500@carlasameth.com
SUMMARY:LitCrawl LA "It's a Book Party" presented by Women Who Submit
DESCRIPTION:Women Who Submit presents: \n\nIt’s a Book Party! Publishing a book can take years of work filled with countless revisions\, submissions\, and rejections. A trial of perseverance\, when a writer finally holds a published book in their hands\, it’s a day worth celebrating. Help us welcome the newest titles from the women and nonbinary writers of Women Who Submit into the world with a raucous book bash.\nAuthors Carla Sameth\, Noriko Nakada\, Colette Sartor\, Michelle  Brittan Rosado\, and Jenise  Miller.\n\n\n 
URL:https://carlasameth.com/event/litcrawl-la-its-a-book-party-presented-by-women-who-submit/
END:VEVENT
BEGIN:VEVENT
DTSTART;TZID=America/Los_Angeles:20190926T200000
DTEND;TZID=America/Los_Angeles:20190926T220000
DTSTAMP:20260423T152752
CREATED:20190501T234248Z
LAST-MODIFIED:20190501T234248Z
UID:486-1569528000-1569535200@carlasameth.com
SUMMARY:Open Door Poetry Reading at Battery Books in Pasadena
DESCRIPTION:Open Door Poetry Reading at Battery Books\, Carla Rachel Sameth reads with Gerda Govine Ituarte.
URL:https://carlasameth.com/event/open-door-poetry-reading-at-battery-books-in-pasadena/
LOCATION:The Battery Books and Music\, 26 S Los Robles Ave\, Pasadena\, CA\, 91101\, United States
CATEGORIES:Reading
END:VEVENT
BEGIN:VEVENT
DTSTART;TZID=America/Los_Angeles:20190919T190000
DTEND;TZID=America/Los_Angeles:20190919T190000
DTSTAMP:20260423T152752
CREATED:20190501T232931Z
LAST-MODIFIED:20190501T232931Z
UID:483-1568919600-1568919600@carlasameth.com
SUMMARY:Pasadena Central Library Author Series
DESCRIPTION:Featured Author Talk and Reading from One Day on the Gold Line: A Memoir in Essays
URL:https://carlasameth.com/event/pasadena-central-library-author-series/
LOCATION:Pasadena Central Library\, 285 E Walnut St\, Pasadena\, CA\, 91101
CATEGORIES:Reading
END:VEVENT
BEGIN:VEVENT
DTSTART;TZID=America/Los_Angeles:20190911T190000
DTEND;TZID=America/Los_Angeles:20190911T190000
DTSTAMP:20260423T152752
CREATED:20190621T001453Z
LAST-MODIFIED:20190621T001824Z
UID:553-1568228400-1568228400@carlasameth.com
SUMMARY:Yves' Jewelry & Judaica\, Author reading/signing\, Carla Sameth One Day on the Gold Line (Berkeley)
DESCRIPTION:
URL:https://carlasameth.com/event/author-reading-signing-carla-sameth-one-day-on-the-gold-line-berkeley/
LOCATION:Yves’ Jewelry & Judaica\, 1865 Solano Avenue\, Berkeley\, 94707\, United States
END:VEVENT
BEGIN:VEVENT
DTSTART;TZID=America/Los_Angeles:20190829T190000
DTEND;TZID=America/Los_Angeles:20190829T190000
DTSTAMP:20260423T152752
CREATED:20190522T211720Z
LAST-MODIFIED:20190522T211720Z
UID:507-1567105200-1567105200@carlasameth.com
SUMMARY:Vroman's Bookstore\, Reading and In-Conversation with Kevin Uhrich\, editor at The Pasadena Weekly
DESCRIPTION:In-conversation Carla Sameth (author One Day on the Gold Line: A Memoir in Essays) with Pasadena Weekly editor\, Kevin Uhrich.
URL:https://carlasameth.com/event/vromans-bookstore-reading-and-in-conversation-with-kevin-uhrich-editor-at-the-pasadena-weekly/
LOCATION:Vroman’s Bookstore\, 695 East Colorado Boulevard\, Pasadena\, CA\, 91101\, United States
CATEGORIES:Reading
END:VEVENT
BEGIN:VEVENT
DTSTART;TZID=America/Los_Angeles:20190825T190000
DTEND;TZID=America/Los_Angeles:20190825T190000
DTSTAMP:20260423T152752
CREATED:20190529T012935Z
LAST-MODIFIED:20190605T230435Z
UID:515-1566759600-1566759600@carlasameth.com
SUMMARY:Seattle book reading and signing at Third Place Books in Seward Park
DESCRIPTION:Seattle book reading and signing for One Day on the Gold Line: A Memoir in Essays. Come celebrate! \n 
URL:https://carlasameth.com/event/seattle-book-reading-and-signing-at-third-place-books-in-seward-park/
LOCATION:Third Place Books in Seward Park\, 5041 Wilson Ave S\,\, Seattle\, WA\, 98118\, United States
END:VEVENT
BEGIN:VEVENT
DTSTART;TZID=America/Los_Angeles:20190824T160000
DTEND;TZID=America/Los_Angeles:20190824T160000
DTSTAMP:20260423T152752
CREATED:20190717T164828Z
LAST-MODIFIED:20190717T231446Z
UID:592-1566662400-1566662400@carlasameth.com
SUMMARY:Contributing Authors Summer Reading Event with Carla Sameth and Rena Priest
DESCRIPTION:  \nRena Priest is a Lummi Tribal Member and author of Patriarchy Blues and Sublime Subliminal. \nCarla Sameth is a 2019 West Hollywood Pride Poet and author of One Day on the Gold Line: A Memoir in Essays (July 2019)
URL:https://carlasameth.com/event/contributing-authors-summer-reading-event-with-carla-sameth-and-rena-priest/
LOCATION:Tacoma Arts Community Center\, 1102 South 11th Street\, Tacoma\, WA\, 98405\, United States
END:VEVENT
BEGIN:VEVENT
DTSTART;TZID=America/Los_Angeles:20190822T190000
DTEND;TZID=America/Los_Angeles:20190822T203000
DTSTAMP:20260423T152752
CREATED:20190604T225812Z
LAST-MODIFIED:20190604T225836Z
UID:539-1566500400-1566505800@carlasameth.com
SUMMARY:Hugo House Panel "Writing Motherhood" featuring: Carla Sameth\, Anne Liu Kellor\, Mary Pan and Samantha Updegrave
DESCRIPTION:Panelists Anne Liu Kellor\, Mary Pan\, Samantha Updegrave and Carla Sameth will read from their work and discuss themes and questions related to “Writing Motherhood.”
URL:https://carlasameth.com/event/hugo-house-panel-writing-motherhood-featuring-carla-sameth-anne-liu-kellor-mary-pan-and-samantha-updegrave/
LOCATION:Hugo House\, 1634 11th Ave\, Seattle\, CA\, 98122\, United States
CATEGORIES:Panel Discussion,Reading
END:VEVENT
BEGIN:VEVENT
DTSTART;TZID=America/Los_Angeles:20190806T190000
DTEND;TZID=America/Los_Angeles:20190806T190000
DTSTAMP:20260423T152752
CREATED:20190403T215400Z
LAST-MODIFIED:20221123T194459Z
UID:444-1565118000-1565118000@carlasameth.com
SUMMARY:NYC book reading and signing at Bluestockings Bookstore
DESCRIPTION:Book Reading and Signing with Authors Marina DelVecchio and Carla Sameth. Carla Sameth will be reading from her memoir\, One Day on the Gold Line (Black Rose Writing\, 2019)\, which tells the story of a lesbian Jewish single mother raising a black son in Los Angeles.  \n Based on her adoption and teen years\, Marina DelVecchio’s Dear Jane (Black Rose Writing 2019) tells the story of a suicidal teen whose letters to Charlotte Bronte’s Jane Eyre give her the courage she needs to overcome the abuses of her childhood and the silences of her new life as a Greek-American adoptee. 
URL:https://carlasameth.com/event/nyc-book-reading-and-signing-at-bluestockings-bookstore/
LOCATION:Bluestockings Bookstore\, 172 Allen Street\, New York\, CA\, 10002\, United States
ORGANIZER;CN="Carla R. Sameth and Peter J. Harris":MAILTO:carla@sameth.com
END:VEVENT
BEGIN:VEVENT
DTSTART;TZID=America/Los_Angeles:20190804T183000
DTEND;TZID=America/Los_Angeles:20190804T183000
DTSTAMP:20260423T152752
CREATED:20190311T233705Z
LAST-MODIFIED:20190312T000033Z
UID:365-1564943400-1564943400@carlasameth.com
SUMMARY:Why There are Words\, Los Angeles
DESCRIPTION:Why There are Words (WTAW)\, Los Angeles: Literary Reading Series
URL:https://carlasameth.com/event/why-there-are-words-los-angeles/
LOCATION:KaffeBaren\, 1000 S Olive St\,\, Los Angeles\, CA\, 90015\, United States
CATEGORIES:Reading
ORGANIZER;CN="WTAW%2C Los Angeles":MAILTO:wtawlosangeles@gmail.com
END:VEVENT
BEGIN:VEVENT
DTSTART;TZID=America/Los_Angeles:20190717T193000
DTEND;TZID=America/Los_Angeles:20190717T193000
DTSTAMP:20260423T152752
CREATED:20190316T175127Z
LAST-MODIFIED:20190424T193909Z
UID:433-1563391800-1563391800@carlasameth.com
SUMMARY:LA Book Launch\, Reading and Signing at The Last Book Store
DESCRIPTION:Los Angeles book launch of One Day on the Gold Line: A Memoir in Essays at The Last Bookstore!  Celebration continues afterwards at location TBA in DTLA. \nNo ticket necessary to attend but please consider buying a book in advance (use link below)  so they know you’ll be there. \n https://www.eventbrite.com/e/one-day-on-the-gold-line-with-carla-sameth-tickets-60386129539
URL:https://carlasameth.com/event/la-book-launch-and-reading-at-the-last-book-store/
LOCATION:The Last Bookstore\, 453 S Spring St\, Los Angeles\, CA 90013\, Los Angeles\, CA\, 90013\, United States
CATEGORIES:Reading
ORGANIZER;CN="Rare Bird Lit":MAILTO:julia@rarebirdlit.com
END:VEVENT
BEGIN:VEVENT
DTSTART;TZID=America/Los_Angeles:20190714T160000
DTEND;TZID=America/Los_Angeles:20190714T173000
DTSTAMP:20260423T152752
CREATED:20190226T053656Z
LAST-MODIFIED:20190227T211423Z
UID:358-1563120000-1563125400@carlasameth.com
SUMMARY:Roar Shack Reading Series
DESCRIPTION:Featured Reader at July Roar Shack Reading Series
URL:https://carlasameth.com/event/roar-shack-reading-series/
LOCATION:Echo Park Time Travel Mart\, 1714 W Sunset Blvd\, Los Angeles\, CA\, 90026\, United States
CATEGORIES:Reading
END:VEVENT
BEGIN:VEVENT
DTSTART;TZID=America/Los_Angeles:20190713T183000
DTEND;TZID=America/Los_Angeles:20190713T183000
DTSTAMP:20260423T152752
CREATED:20190706T231227Z
LAST-MODIFIED:20190706T231227Z
UID:569-1563042600-1563042600@carlasameth.com
SUMMARY:Joshua Tree Reading and Benefit for mil-tree.org
DESCRIPTION:
URL:https://carlasameth.com/event/joshua-tree-reading-and-benefit-for-mil-tree-org/
LOCATION:The Country Kitchen\, 61768 29 Palms Hwy.\, Joshua Tree\, CA\, 92252\, United States
END:VEVENT
BEGIN:VEVENT
DTSTART;TZID=America/Los_Angeles:20190622T193000
DTEND;TZID=America/Los_Angeles:20190622T193000
DTSTAMP:20260423T152752
CREATED:20190311T235950Z
LAST-MODIFIED:20190311T235950Z
UID:371-1561231800-1561231800@carlasameth.com
SUMMARY:Influx Collectiv: A Queer Poetry Reading Series
DESCRIPTION:A Queer LA Reading Series organized by Influx Collectiv at various locations throughout Los Angeles in order to promote the voices of queer writers.
URL:https://carlasameth.com/event/influx-collectiv-a-queer-poetry-reading-series/
LOCATION:Poetic Research Bureau\, 951 Chung King Rd\, Los Angeles\, CA\, 90012\, United States
CATEGORIES:Reading
ORGANIZER;CN="Influx Collectiv":MAILTO:influxcollectiv@gmail.com
END:VEVENT
BEGIN:VEVENT
DTSTART;TZID=America/Los_Angeles:20190519T180000
DTEND;TZID=America/Los_Angeles:20190519T190000
DTSTAMP:20260423T152752
CREATED:20190415T215716Z
LAST-MODIFIED:20190416T015142Z
UID:452-1558288800-1558292400@carlasameth.com
SUMMARY:LitFest Pasadena Panel Discussion & Reading\, Queer\, Adoptive\, and Nontraditional Configurations of Families: Writing Our Truth\, Making/Remaking Boundaries
DESCRIPTION:Whether writing about child rearing or very much not on the topic of babies\, parenthood intersects at every level of the professional author experience. Queer parents are often intentional in creating their families and in how they position their identities as writers. This interdisciplinary program features diverse authors who have published in multiple genres and define themselves as other than a “traditional” mother. \nPanel participants include: \nCarla Sameth\,  Cheryl Klein\, Pat Alderete\, Nefertiti Austin\, Caroll Sun Yang \nSunday\, May 19\, 6-7 p.m. Playhouse library
URL:https://carlasameth.com/event/litfest-pasadena-panel-discussion-and-reading/
LOCATION:Pasadena Playhouse Library\, 39 South El Molino Boulevard\, Pasadena\, CA\, 91101\, United States
ORGANIZER;CN="LitFest Pasadena":MAILTO:litfestpasadena@gmail.com
END:VEVENT
BEGIN:VEVENT
DTSTART;TZID=America/Los_Angeles:20190518T163000
DTEND;TZID=America/Los_Angeles:20190518T173000
DTSTAMP:20260423T152752
CREATED:20190422T002644Z
LAST-MODIFIED:20190422T002644Z
UID:472-1558197000-1558200600@carlasameth.com
SUMMARY:LitFest Pasadena Panel: YOU MIGHT AS WELL LIVE: Traversing Pain\, Pleasure and Everything in Between in the Queer Memoir
DESCRIPTION:This lively and thought-provoking panel discussion will feature an eclectic and electric group of LGBTQ authors  discussing their recent memoirs\, the writing process\, inspiration(s) and much more. \nPanelists featuring Alex Espinoza\, Ali Liebegott\, Jacob Tobia\, Carla Rachel Sameth \nThe panel will take place in the Friendship Center space at the Pasadena Playhouse on Saturday\, May 18 as part of LitFest Pasadena  
URL:https://carlasameth.com/event/litfest-pasadena-panel-you-might-as-well-live-traversing-pain-pleasure-and-everything-in-between-in-the-queer-memoir/
LOCATION:Pasadena Playhouse Friendship Center\, 39 South El Molino Boulevard\, Pasadena\, CA\, 91101
CATEGORIES:Reading
END:VEVENT
BEGIN:VEVENT
DTSTART;TZID=America/Los_Angeles:20190514T080000
DTEND;TZID=America/Los_Angeles:20190514T170000
DTSTAMP:20260423T152752
CREATED:20190514T175733Z
LAST-MODIFIED:20190514T175801Z
UID:497-1557820800-1557853200@carlasameth.com
SUMMARY:Book Show Reading from One Day on the Gold Line: A Memoir in Essays
DESCRIPTION:Carla Sameth will read from her new memoir\, One Day on the Gold Line: A Memoir in Essays\, along with special guest writers TBA.
URL:https://carlasameth.com/event/book-show-reading-from-one-day-on-the-gold-line-a-memoir-in-essays/
LOCATION:BookshowLA\, 5503 North Figueroa St.\, Los Angeles\, CA\, 90042\, United States
CATEGORIES:Reading
END:VEVENT
BEGIN:VEVENT
DTSTART;TZID=America/Los_Angeles:20190221T190000
DTEND;TZID=America/Los_Angeles:20190221T200000
DTSTAMP:20260423T152752
CREATED:20190115T011539Z
LAST-MODIFIED:20190115T011712Z
UID:295-1550775600-1550779200@carlasameth.com
SUMMARY:Pasadena Celebration of Black History Month
DESCRIPTION:The Pasadena Rose Poets will honor and celebrate past and present African American poets who have and continue to impact this genre in the US and Beyond.
URL:https://carlasameth.com/event/pasadena-celebration-of-black-history-month/
LOCATION:Pasadena Central Library\, 285 E Walnut St\, Pasadena\, CA\, 91101
END:VEVENT
END:VCALENDAR