BEGIN:VCALENDAR
VERSION:2.0
PRODID:-//Carla Rachel Sameth - ECPv6.15.20//NONSGML v1.0//EN
CALSCALE:GREGORIAN
METHOD:PUBLISH
X-ORIGINAL-URL:https://carlasameth.com
X-WR-CALDESC:Events for Carla Rachel Sameth
REFRESH-INTERVAL;VALUE=DURATION:PT1H
X-Robots-Tag:noindex
X-PUBLISHED-TTL:PT1H
BEGIN:VTIMEZONE
TZID:America/Los_Angeles
BEGIN:DAYLIGHT
TZOFFSETFROM:-0800
TZOFFSETTO:-0700
TZNAME:PDT
DTSTART:20220313T100000
END:DAYLIGHT
BEGIN:STANDARD
TZOFFSETFROM:-0700
TZOFFSETTO:-0800
TZNAME:PST
DTSTART:20221106T090000
END:STANDARD
BEGIN:DAYLIGHT
TZOFFSETFROM:-0800
TZOFFSETTO:-0700
TZNAME:PDT
DTSTART:20230312T100000
END:DAYLIGHT
BEGIN:STANDARD
TZOFFSETFROM:-0700
TZOFFSETTO:-0800
TZNAME:PST
DTSTART:20231105T090000
END:STANDARD
BEGIN:DAYLIGHT
TZOFFSETFROM:-0800
TZOFFSETTO:-0700
TZNAME:PDT
DTSTART:20240310T100000
END:DAYLIGHT
BEGIN:STANDARD
TZOFFSETFROM:-0700
TZOFFSETTO:-0800
TZNAME:PST
DTSTART:20241103T090000
END:STANDARD
BEGIN:DAYLIGHT
TZOFFSETFROM:-0800
TZOFFSETTO:-0700
TZNAME:PDT
DTSTART:20250309T100000
END:DAYLIGHT
BEGIN:STANDARD
TZOFFSETFROM:-0700
TZOFFSETTO:-0800
TZNAME:PST
DTSTART:20251102T090000
END:STANDARD
BEGIN:DAYLIGHT
TZOFFSETFROM:-0800
TZOFFSETTO:-0700
TZNAME:PDT
DTSTART:20260308T100000
END:DAYLIGHT
BEGIN:STANDARD
TZOFFSETFROM:-0700
TZOFFSETTO:-0800
TZNAME:PST
DTSTART:20261101T090000
END:STANDARD
BEGIN:DAYLIGHT
TZOFFSETFROM:-0800
TZOFFSETTO:-0700
TZNAME:PDT
DTSTART:20270314T100000
END:DAYLIGHT
BEGIN:STANDARD
TZOFFSETFROM:-0700
TZOFFSETTO:-0800
TZNAME:PST
DTSTART:20271107T090000
END:STANDARD
END:VTIMEZONE
BEGIN:VEVENT
DTSTART;TZID=America/Los_Angeles:20230503T083000
DTEND;TZID=America/Los_Angeles:20230531T100000
DTSTAMP:20260425T082148
CREATED:20230326T211332Z
LAST-MODIFIED:20230512T211118Z
UID:1106-1683102600-1685527200@carlasameth.com
SUMMARY:May Is for Moments: A Flash Nonfiction Workshop Series
DESCRIPTION:May Is for Moments: A Flash Nonfiction Workshop Series\nFive Wednesdays: May 3-31\, 2023\n11:30 AM-1:00 PM Eastern\nDive into flash nonfiction every Wednesday in May with this series of five workshops. \nTICKETS: Individual workshops: $45.\n\nMay 3—Ignite Your Flash (Nonfiction)—an Intro in Three Essays\nIn this workshop\, you’ll learn about flash nonfiction via three powerful essays: a list essay\, a profile essay\, and an object essay. You’ll then choose one of the given prompts to start your own flash first draft in class. Facilitated by Shuly Xóchitl Cawood. Cost $45. Register here for this workshop only. \nMay 10—Breathlessness: The Power and Purpose of One-Sentence Flash\nSome of the most interesting and moving flash nonfiction pieces all take place in one sentence. In this class\, you’ll read some sample one-sentence essays. We’ll discuss the moods\, topics\, and tones that fit best with this form\, as well as when and why to use it. And you’ll have a chance to dabble in the freedom of a one-sentence essay of your own. Facilitated by Tracy Rothschild Lynch. Cost $45. Register here for this workshop only. \nMay 17—Mapping and Memory: The Power of the Visual\nWhen we were little\, we played. We created art with abandon and let our creativity run wild. As adults\, we have the power to use art as an active\, energetic process to dive deeper into memory. You’ll need your markers and colored pencil for this course\, as we mine for memories (and flash nonfiction possibilities!) through visual reconstructions of the past . . . and have fun while doing it! Facilitated by Tracy Rothschild Lynch. Cost $45. Register here for this workshop only. \nMay 24—Flash in a Dash: Exploring the Micro Essay\nSmall essays can still have a big impact. We’ll look at flash essays that pack a punch in under 300 words and explore why they work. You’ll also be given a prompt to dive into your own micro draft in class. Facilitated by Shuly Xóchitl Cawood. Cost $45. Register here for this workshop only. \nMay 31—Telling Your Story Sideways\, Upside-down\, Inside-out: Alternative Forms in Nonfiction\nMany stories do not lend themselves to a straightforward narrative approach so we look for another way in. Alternative forms can work well\, as memories are sometimes fragmented and this helps a writer find a way in\, often injecting humor into an otherwise serious topic. Have you ever thought about writing a story in the form of a prescription\, a crossword puzzle\, or a recipe? What are the operating instructions for getting a teenage daughter to “like” her mother? We will explore a variety of forms that might match well with a story you have to tell. Facilitated by Carla Rachel Sameth. Cost $45. Register here for this workshop only. \nTHE FINE PRINT: All workshops are synchronous. No recordings will be made. Cost for the series (all five workshops): $199. Early Bird Rate (deadline 4/15): $175. Refunds available (minus a $10 processing fee) for series tickets if a request is emailed to shulycawood [at] gmail [dot] com by April 26. After April 26\, no refunds for series tickets will be given.
URL:https://carlasameth.com/event/may-is-for-moments-a-flash-nonfiction-workshop-series/
LOCATION:CA
END:VEVENT
BEGIN:VEVENT
DTSTART;TZID=America/Los_Angeles:20240218T160000
DTEND;TZID=America/Los_Angeles:20240218T180000
DTSTAMP:20260425T082148
CREATED:20240409T204903Z
LAST-MODIFIED:20240409T204903Z
UID:1264-1708272000-1708279200@carlasameth.com
SUMMARY:Roar Shack Literary Series\, Featured Reader
DESCRIPTION:Roar Shack returns on Sunday\, February 18 at 4 pm for another stellar show! Join us at the Echo Park Time Travel Mart (1714 Sunset) as we welcome this insane lineup: Louise Moore\, Dayna Lynne North\, Susan Hayden\, Kate Maruyama\, Carla Sameth and Jim Ruland!
URL:https://carlasameth.com/event/roar-shack-literary-series-featured-reader/
LOCATION:Echo Park Time Travel Mart\, 1714 W Sunset Blvd\, Los Angeles\, CA\, 90026\, United States
END:VEVENT
BEGIN:VEVENT
DTSTART;TZID=America/Los_Angeles:20240225T140000
DTEND;TZID=America/Los_Angeles:20240225T160000
DTSTAMP:20260425T082148
CREATED:20231225T190832Z
LAST-MODIFIED:20240120T204239Z
UID:1200-1708869600-1708876800@carlasameth.com
SUMMARY:Secondary Inspections Book Launch and Reading
DESCRIPTION:Come join us to celebrate the launch of my first full-length poetry collection\, Secondary Inspections\, at Underdog Bookstore in Monrovia. Let the folks know at Underdog Bookstore that you’ll be coming through registering at Eventbrite. Please note that the price includes a copy of the book. However no purchase is necessary to attend! Of course\, we’d always love it if you support this indie bookstore. \nThe marvelous poets Romaine Washington and Bonnie S. Kaplan will also be reading. \nWe look forward to seeing you! \n 
URL:https://carlasameth.com/event/secondary-inspections-book-launch-and-reading/
LOCATION:Underdog Bookstore\, 312 S Myrtle Ave\, Monrovia\, 91016\, United States
END:VEVENT
BEGIN:VEVENT
DTSTART;TZID=America/Los_Angeles:20240404T180000
DTEND;TZID=America/Los_Angeles:20240404T200000
DTSTAMP:20260425T082148
CREATED:20240409T203740Z
LAST-MODIFIED:20240409T203740Z
UID:1257-1712253600-1712260800@carlasameth.com
SUMMARY:Octavia's Bookshelf Celebrates National Poetry Month with The Pasadena Rose Poets
DESCRIPTION:  \nOctavia’s Bookshelf\nC E L E B R A T E S \n  \nNATIONAL POETRY MONTH \nwith \nTHE PASADENA ROSE POETS \nReading from their Anthology \nReflection Resistance Reckoning Resurrection 2019 \nNot So Perfect Storm 2022 \n  \n1365 N. HILL AVENUE\, PASADENA CA \nTHURSDAY\, APRIL 4\, 2024 \n6:00-8:00 P.M.  \n(626) 421-6222 \n  \n  \n  \n 
URL:https://carlasameth.com/event/octavias-bookshelf-celebrates-national-poetry-month-with-the-pasadena-rose-poets/
LOCATION:Octavia’s Bookshelf\, 1365 North Hill Avenue\, Pasadena\, CA\, 91104\, United States
END:VEVENT
BEGIN:VEVENT
DTSTART;TZID=America/Los_Angeles:20240414T123500
DTEND;TZID=America/Los_Angeles:20240414T125500
DTSTAMP:20260425T082148
CREATED:20240409T204347Z
LAST-MODIFIED:20240409T204447Z
UID:1260-1713098100-1713099300@carlasameth.com
SUMMARY:Poetry Reading at NELA Poetry Fest
DESCRIPTION:http://nelapoetryfest.weebly.com/ \nFeatured Readers\nRaffi Wartanian\ntraci kato-kiriyama\nCarla Sameth
URL:https://carlasameth.com/event/poetry-reading-at-nela-poetry-fest/
LOCATION:CA
END:VEVENT
BEGIN:VEVENT
DTSTART;TZID=America/Los_Angeles:20240504T140000
DTEND;TZID=America/Los_Angeles:20240504T150000
DTSTAMP:20260425T082148
CREATED:20240503T221416Z
LAST-MODIFIED:20240503T221742Z
UID:1274-1714831200-1714834800@carlasameth.com
SUMMARY:LitFest in the Dena Visible\, Wisdom: Lesbian Poets Over 60 Read and in Conversation
DESCRIPTION:Saturday\, May 4 at 2:00 P.M.Visible Wisdom: Lesbian Poets Over 60 Read and in Conversation\n\n\n\nEvent Description: Consider this. What we didn’t know before\, we’ve learned over time through lovers\, through demonstrations\, the nightlife\, the bars. We’re butch and femme\, dyke and crone\, earthly and wild\, and altogether queer. We are the memory and the future. And we’re not finished yet. Come hear Southern California lesbian poets over 60 share words crafted on our journeys over time.  Discussion and Q & A to follow reading.
URL:https://carlasameth.com/event/litfest-in-the-dena-visible-wisdom-lesbian-poets-over-60-read-and-in-conversation/
LOCATION:Mountain View Mausoleum\, 2300 North Merengo Avenue\, Altadena\, CA\, 91001\, United States
END:VEVENT
BEGIN:VEVENT
DTSTART;TZID=America/Los_Angeles:20240505T123000
DTEND;TZID=America/Los_Angeles:20240505T133000
DTSTAMP:20260425T082148
CREATED:20240503T221703Z
LAST-MODIFIED:20240503T221703Z
UID:1278-1714912200-1714915800@carlasameth.com
SUMMARY:Pasadena Rose Poets Present
DESCRIPTION:Reading by Pasadena Rose Poets \n12:30-1:30 P.M.
URL:https://carlasameth.com/event/pasadena-rose-poets-present/
LOCATION:Mountain View Mausoleum\, 2300 North Merengo Avenue\, Altadena\, CA\, 91001\, United States
END:VEVENT
BEGIN:VEVENT
DTSTART;TZID=America/Los_Angeles:20240511T124500
DTEND;TZID=America/Los_Angeles:20240511T160000
DTSTAMP:20260425T082148
CREATED:20240503T223008Z
LAST-MODIFIED:20240503T223008Z
UID:1281-1715431500-1715443200@carlasameth.com
SUMMARY:Lesbian Roots: Grandmothers\, Mothers and Others Poetry Reading
DESCRIPTION:Through origin and chosen families\, bloodlines and battles\, our roots have been watered by loving kin\, and those who treasured or traumatized us. We’ve raised hell and raised ourselves and others\, found refuge in women and the solace of strength in sisterhood. We bring you writings from these lives and will make spaces for you to share yours. Come join. \nParticipating poets: Jennifer Abod\, Gayle Fuhr\, Olga Garcia Echeverria\, Catherine Gewertz\, Antonieta Gimeno Cardona\, Susana Gonzales\, Dorothy Randall Gray\, Traci Kato-Kiriyama\, Bonnilee Kaufman\, Ronna Magy\, Janet L. Nicholson and Carla Rachel Sameth. \nSpecial Guest and MC Deven Bouchet \nThis event is co-curated by Dorothy Randall Gray and Ronna Magy \n 
URL:https://carlasameth.com/event/lesbian-roots-grandmothers-mothers-and-others-poetry-reading/
LOCATION:Los Angeles LGBT Center Senior Services\, Pride Hall 1118 N. McCadden Place\, Los Angeles\, CA\, 90038
CATEGORIES:Reading
END:VEVENT
BEGIN:VEVENT
DTSTART;TZID=America/Los_Angeles:20240928T110000
DTEND;TZID=America/Los_Angeles:20240928T140000
DTSTAMP:20260425T082148
CREATED:20240924T233840Z
LAST-MODIFIED:20240924T233905Z
UID:1294-1727521200-1727532000@carlasameth.com
SUMMARY:Glendale Poet Laureate Poetry Workshop and Reading
DESCRIPTION:
URL:https://carlasameth.com/event/glendale-poet-laureate-poetry-workshop-and-reading/
LOCATION:Pacific Park Library\, 501 South Pacific Avenue\, Glendale\, United States
END:VEVENT
BEGIN:VEVENT
DTSTART;TZID=America/Los_Angeles:20241009T180000
DTEND;TZID=America/Los_Angeles:20241009T193000
DTSTAMP:20260425T082148
CREATED:20240924T235621Z
LAST-MODIFIED:20240924T235628Z
UID:1302-1728496800-1728502200@carlasameth.com
SUMMARY:Voices of Contemporary Women Writers in Southern California
DESCRIPTION:UPCOMING PROGRAM FROM THE BOOK CLUB OF CALIFORNIA\n\n\n\n\nVoices of Contemporary Women Writers in Southern California\n\n\n\n\n\n\n\n\n\n\n\n\n\n\nWednesday\, October 9\, 2024\n\n\n\n\n\n\n\n\n\n\n\n\n\n\n\n\n\n6:00 pm\n\n\n\n\n\n\n\n\n – 7:15 pm\n\n\n\n\n\n\n\n\n (PT)\n\n\n\n\n\n\n\n\n\n\n\n\n\n\n\n\n\nPasadena Heritage | 160 N. Oakland Avenue | Pasadena\, CA 91101\n\nRegister to attend in person: https://www.bccbooks.org/event/voices-of-contemporary-women-writers-in-southern-california/
URL:https://carlasameth.com/event/voices-of-contemporary-women-writers-in-southern-california/
LOCATION:Blinn House- Pasadena Heritage\, 160 North Oakland Avenue\, Pasadena\, CA\, 91101\, United States
END:VEVENT
BEGIN:VEVENT
DTSTART;TZID=America/Los_Angeles:20241020T151500
DTEND;TZID=America/Los_Angeles:20241020T161500
DTSTAMP:20260425T082148
CREATED:20240925T000417Z
LAST-MODIFIED:20240925T000417Z
UID:1308-1729437300-1729440900@carlasameth.com
SUMMARY:Pride on the Page\, More than Queer: Conversations About Identity & Culture Across Genres
DESCRIPTION:
URL:https://carlasameth.com/event/pride-on-the-page-more-than-queer-conversations-about-identity-culture-across-genres/
LOCATION:Palm Springs Cultural Center\, 2300 E Baristo Rd\, Palm Springs\, 92262\, United States
END:VEVENT
BEGIN:VEVENT
DTSTART;TZID=America/Los_Angeles:20241020T151500
DTEND;TZID=America/Los_Angeles:20241020T161500
DTSTAMP:20260425T082148
CREATED:20241014T175101Z
LAST-MODIFIED:20241014T175101Z
UID:1326-1729437300-1729440900@carlasameth.com
SUMMARY:More Than Queer: Conversations About Identity & Culture Across Genres Author Panel at Pride on the Page
DESCRIPTION:
URL:https://carlasameth.com/event/more-than-queer-conversations-about-identity-culture-across-genres-author-panel-at-pride-on-the-page/
LOCATION:Palm Springs Cultural Center\, 2300 E Baristo Rd\, Palm Springs\, 92262\, United States
END:VEVENT
BEGIN:VEVENT
DTSTART;TZID=America/Los_Angeles:20251108T140000
DTEND;TZID=America/Los_Angeles:20251108T160000
DTSTAMP:20260425T082148
CREATED:20251101T210018Z
LAST-MODIFIED:20251101T210225Z
UID:1344-1762610400-1762617600@carlasameth.com
SUMMARY:Altadena Poets Laureate Queer Poets Resist Reading and open mic
DESCRIPTION:
URL:https://carlasameth.com/event/altadena-poets-laureate-queer-poets-resist-reading-and-open-mic/
LOCATION:Altadena Main Library\, 600 East Mariposa Street\, Altadena\, CA\, 91001\, United States
END:VEVENT
BEGIN:VEVENT
DTSTART;TZID=America/Los_Angeles:20251115T110000
DTEND;TZID=America/Los_Angeles:20251115T130000
DTSTAMP:20260425T082148
CREATED:20251101T210654Z
LAST-MODIFIED:20251101T210654Z
UID:1347-1763204400-1763211600@carlasameth.com
SUMMARY:Writing About the Difficult: Borrowing a Form to Break into Your Story  Writing Workshop
DESCRIPTION:with Carla Rachel Sameth  \nNovember 15\, 2025  – 11 am -1 pm \nMain Library Community Room \n  \nIs there a particular story or poem that’s been bouncing around in your head and you can’t find the way in? In this workshop\, we’ll look at different frames and containers that other writers have used to tell their story. You’ll then spend time writing your own piece\, matching form and theme. \n  \nMemory is fragile and imperfect and trauma can cause further fragmentation of memory making it more elusive. Sometimes writing in alternative forms\, non-linear—for example\, a letter of rejection\, operating instructions or a prescription—helps one to excavate the material.  \n 
URL:https://carlasameth.com/event/writing-about-the-difficult-borrowing-a-form-to-break-into-your-story-writing-workshop/
LOCATION:Altadena Main Library\, 600 East Mariposa Street\, Altadena\, CA\, 91001\, United States
END:VEVENT
BEGIN:VEVENT
DTSTART;TZID=America/Los_Angeles:20251205T140000
DTEND;TZID=America/Los_Angeles:20251205T153000
DTSTAMP:20260425T082148
CREATED:20251102T015902Z
LAST-MODIFIED:20251102T015902Z
UID:1352-1764943200-1764948600@carlasameth.com
SUMMARY:Author Talk with the Pasadena Village
DESCRIPTION:Author Talk for Pasadena Village\nWhen\nFri 12 / 05 / 2025\n2:00 PM to 3:30 PM\nWhere\nVillage Office Community Room\n236 W. Mountain St\, #113\nPasadena CA 91103\nWho can attend\nOpen to all\nPrice\nFREE
URL:https://carlasameth.com/event/author-talk-with-the-pasadena-village/
LOCATION:Pasadena Village\, 236 W. Mountain St\, #113\, Pasadena\, CA\, 91103\, United States
ORGANIZER;CN="Kieran Highsmith":MAILTO:kieran@pasadenavillage.org
END:VEVENT
BEGIN:VEVENT
DTSTART;TZID=America/Los_Angeles:20260425T113000
DTEND;TZID=America/Los_Angeles:20260425T133000
DTSTAMP:20260425T082148
CREATED:20260422T181931Z
LAST-MODIFIED:20260422T181931Z
UID:1367-1777116600-1777123800@carlasameth.com
SUMMARY:San Gabriel Valley Phoenix Poets Workshop
DESCRIPTION:Please join me for  a poetry workshop at the Eaton Fire Collaboratory (EFC) as part of the San Gabriel Valley Poets Poetry Workshop Series! \nEaton Fire \nCollaboratory (EFC) \n540 W. Woodbury Rd.\, \nAltadena\, CA 91001
URL:https://carlasameth.com/event/san-gabriel-valley-phoenix-poets-workshop/
LOCATION:Eaton Fire Collaboratory\, 540 West Woodbury Road\, Altadena\, CA\, 91001\, United States
END:VEVENT
END:VCALENDAR