BEGIN:VCALENDAR
VERSION:2.0
PRODID:-//Carla Rachel Sameth - ECPv6.15.20//NONSGML v1.0//EN
CALSCALE:GREGORIAN
METHOD:PUBLISH
X-WR-CALNAME:Carla Rachel Sameth
X-ORIGINAL-URL:https://carlasameth.com
X-WR-CALDESC:Events for Carla Rachel Sameth
REFRESH-INTERVAL;VALUE=DURATION:PT1H
X-Robots-Tag:noindex
X-PUBLISHED-TTL:PT1H
BEGIN:VTIMEZONE
TZID:America/Los_Angeles
BEGIN:DAYLIGHT
TZOFFSETFROM:-0800
TZOFFSETTO:-0700
TZNAME:PDT
DTSTART:20230312T100000
END:DAYLIGHT
BEGIN:STANDARD
TZOFFSETFROM:-0700
TZOFFSETTO:-0800
TZNAME:PST
DTSTART:20231105T090000
END:STANDARD
BEGIN:DAYLIGHT
TZOFFSETFROM:-0800
TZOFFSETTO:-0700
TZNAME:PDT
DTSTART:20240310T100000
END:DAYLIGHT
BEGIN:STANDARD
TZOFFSETFROM:-0700
TZOFFSETTO:-0800
TZNAME:PST
DTSTART:20241103T090000
END:STANDARD
BEGIN:DAYLIGHT
TZOFFSETFROM:-0800
TZOFFSETTO:-0700
TZNAME:PDT
DTSTART:20250309T100000
END:DAYLIGHT
BEGIN:STANDARD
TZOFFSETFROM:-0700
TZOFFSETTO:-0800
TZNAME:PST
DTSTART:20251102T090000
END:STANDARD
END:VTIMEZONE
BEGIN:VEVENT
DTSTART;TZID=America/Los_Angeles:20240511T124500
DTEND;TZID=America/Los_Angeles:20240511T160000
DTSTAMP:20260424T174229
CREATED:20240503T223008Z
LAST-MODIFIED:20240503T223008Z
UID:1281-1715431500-1715443200@carlasameth.com
SUMMARY:Lesbian Roots: Grandmothers\, Mothers and Others Poetry Reading
DESCRIPTION:Through origin and chosen families\, bloodlines and battles\, our roots have been watered by loving kin\, and those who treasured or traumatized us. We’ve raised hell and raised ourselves and others\, found refuge in women and the solace of strength in sisterhood. We bring you writings from these lives and will make spaces for you to share yours. Come join. \nParticipating poets: Jennifer Abod\, Gayle Fuhr\, Olga Garcia Echeverria\, Catherine Gewertz\, Antonieta Gimeno Cardona\, Susana Gonzales\, Dorothy Randall Gray\, Traci Kato-Kiriyama\, Bonnilee Kaufman\, Ronna Magy\, Janet L. Nicholson and Carla Rachel Sameth. \nSpecial Guest and MC Deven Bouchet \nThis event is co-curated by Dorothy Randall Gray and Ronna Magy \n 
URL:https://carlasameth.com/event/lesbian-roots-grandmothers-mothers-and-others-poetry-reading/
LOCATION:Los Angeles LGBT Center Senior Services\, Pride Hall 1118 N. McCadden Place\, Los Angeles\, CA\, 90038
CATEGORIES:Reading
END:VEVENT
END:VCALENDAR