BEGIN:VCALENDAR
VERSION:2.0
PRODID:-//Carla Rachel Sameth - ECPv6.15.20//NONSGML v1.0//EN
CALSCALE:GREGORIAN
METHOD:PUBLISH
X-WR-CALNAME:Carla Rachel Sameth
X-ORIGINAL-URL:https://carlasameth.com
X-WR-CALDESC:Events for Carla Rachel Sameth
REFRESH-INTERVAL;VALUE=DURATION:PT1H
X-Robots-Tag:noindex
X-PUBLISHED-TTL:PT1H
BEGIN:VTIMEZONE
TZID:America/Los_Angeles
BEGIN:DAYLIGHT
TZOFFSETFROM:-0800
TZOFFSETTO:-0700
TZNAME:PDT
DTSTART:20230312T100000
END:DAYLIGHT
BEGIN:STANDARD
TZOFFSETFROM:-0700
TZOFFSETTO:-0800
TZNAME:PST
DTSTART:20231105T090000
END:STANDARD
BEGIN:DAYLIGHT
TZOFFSETFROM:-0800
TZOFFSETTO:-0700
TZNAME:PDT
DTSTART:20240310T100000
END:DAYLIGHT
BEGIN:STANDARD
TZOFFSETFROM:-0700
TZOFFSETTO:-0800
TZNAME:PST
DTSTART:20241103T090000
END:STANDARD
BEGIN:DAYLIGHT
TZOFFSETFROM:-0800
TZOFFSETTO:-0700
TZNAME:PDT
DTSTART:20250309T100000
END:DAYLIGHT
BEGIN:STANDARD
TZOFFSETFROM:-0700
TZOFFSETTO:-0800
TZNAME:PST
DTSTART:20251102T090000
END:STANDARD
END:VTIMEZONE
BEGIN:VEVENT
DTSTART;TZID=America/Los_Angeles:20240505T123000
DTEND;TZID=America/Los_Angeles:20240505T133000
DTSTAMP:20260424T123950
CREATED:20240503T221703Z
LAST-MODIFIED:20240503T221703Z
UID:1278-1714912200-1714915800@carlasameth.com
SUMMARY:Pasadena Rose Poets Present
DESCRIPTION:Reading by Pasadena Rose Poets \n12:30-1:30 P.M.
URL:https://carlasameth.com/event/pasadena-rose-poets-present/
LOCATION:Mountain View Mausoleum\, 2300 North Merengo Avenue\, Altadena\, CA\, 91001\, United States
END:VEVENT
END:VCALENDAR