BEGIN:VCALENDAR
VERSION:2.0
PRODID:-//Carla Rachel Sameth - ECPv6.15.20//NONSGML v1.0//EN
CALSCALE:GREGORIAN
METHOD:PUBLISH
X-WR-CALNAME:Carla Rachel Sameth
X-ORIGINAL-URL:https://carlasameth.com
X-WR-CALDESC:Events for Carla Rachel Sameth
REFRESH-INTERVAL;VALUE=DURATION:PT1H
X-Robots-Tag:noindex
X-PUBLISHED-TTL:PT1H
BEGIN:VTIMEZONE
TZID:America/Los_Angeles
BEGIN:DAYLIGHT
TZOFFSETFROM:-0800
TZOFFSETTO:-0700
TZNAME:PDT
DTSTART:20220313T100000
END:DAYLIGHT
BEGIN:STANDARD
TZOFFSETFROM:-0700
TZOFFSETTO:-0800
TZNAME:PST
DTSTART:20221106T090000
END:STANDARD
BEGIN:DAYLIGHT
TZOFFSETFROM:-0800
TZOFFSETTO:-0700
TZNAME:PDT
DTSTART:20230312T100000
END:DAYLIGHT
BEGIN:STANDARD
TZOFFSETFROM:-0700
TZOFFSETTO:-0800
TZNAME:PST
DTSTART:20231105T090000
END:STANDARD
BEGIN:DAYLIGHT
TZOFFSETFROM:-0800
TZOFFSETTO:-0700
TZNAME:PDT
DTSTART:20240310T100000
END:DAYLIGHT
BEGIN:STANDARD
TZOFFSETFROM:-0700
TZOFFSETTO:-0800
TZNAME:PST
DTSTART:20241103T090000
END:STANDARD
END:VTIMEZONE
BEGIN:VEVENT
DTSTART;TZID=America/Los_Angeles:20230228T180000
DTEND;TZID=America/Los_Angeles:20230228T193000
DTSTAMP:20260425T093522
CREATED:20230228T234415Z
LAST-MODIFIED:20230228T234415Z
UID:1100-1677607200-1677612600@carlasameth.com
SUMMARY:3 Memoirs\, 3 Ways\, 3 Award-Winning Authors\, Reading
DESCRIPTION:Golden Foothills Press presents Reading “3 Memoirs\, 3 Ways\, 3 Award-Winning Authors \nFeaturing: Joseph Robledo\, Carla Rachel Sameth\, Thelma T. Reyna  \nFebruary 28\, Tuesday\, 6:00-7:30 PM \n  \nprogram\, 3 MEMOIRS LIT. EVENT\, ALT. LIBRARY\, 2.28.23 pdf2
URL:https://carlasameth.com/event/3-memoirs-3-ways-3-award-winning-authors-reading/
LOCATION:Altadena Main Library\, 600 East Mariposa Street\, Altadena\, CA\, 91001\, United States
END:VEVENT
END:VCALENDAR