BEGIN:VCALENDAR
VERSION:2.0
PRODID:-//Carla Rachel Sameth - ECPv6.15.20//NONSGML v1.0//EN
CALSCALE:GREGORIAN
METHOD:PUBLISH
X-ORIGINAL-URL:https://carlasameth.com
X-WR-CALDESC:Events for Carla Rachel Sameth
REFRESH-INTERVAL;VALUE=DURATION:PT1H
X-Robots-Tag:noindex
X-PUBLISHED-TTL:PT1H
BEGIN:VTIMEZONE
TZID:America/Los_Angeles
BEGIN:DAYLIGHT
TZOFFSETFROM:-0800
TZOFFSETTO:-0700
TZNAME:PDT
DTSTART:20220313T100000
END:DAYLIGHT
BEGIN:STANDARD
TZOFFSETFROM:-0700
TZOFFSETTO:-0800
TZNAME:PST
DTSTART:20221106T090000
END:STANDARD
BEGIN:DAYLIGHT
TZOFFSETFROM:-0800
TZOFFSETTO:-0700
TZNAME:PDT
DTSTART:20230312T100000
END:DAYLIGHT
BEGIN:STANDARD
TZOFFSETFROM:-0700
TZOFFSETTO:-0800
TZNAME:PST
DTSTART:20231105T090000
END:STANDARD
BEGIN:DAYLIGHT
TZOFFSETFROM:-0800
TZOFFSETTO:-0700
TZNAME:PDT
DTSTART:20240310T100000
END:DAYLIGHT
BEGIN:STANDARD
TZOFFSETFROM:-0700
TZOFFSETTO:-0800
TZNAME:PST
DTSTART:20241103T090000
END:STANDARD
END:VTIMEZONE
BEGIN:VEVENT
DTSTART;TZID=America/Los_Angeles:20230225T110000
DTEND;TZID=America/Los_Angeles:20230225T130000
DTSTAMP:20260425T105032
CREATED:20230228T233735Z
LAST-MODIFIED:20230228T233735Z
UID:1094-1677322800-1677330000@carlasameth.com
SUMMARY:Altadena Poet Laureates Present Poetry Reading\, Carla R. Sameth and Special Guests
DESCRIPTION:Poets-Laureate-March23-Event Poets-Laureate-Feb23 (1) use \n  \nJoin Altadena Poet Laureate Carla Rachel Sameth and special guests for a reading at the Altadena Main Library. Featuring: Xochitl-Julisa Bermejo\, Noriko Nakada\, Carla R. Sameth and Romaine Washington. \nSaturday February 25\, 2023 \n11:00 AM to 1 PM \nMain Library Community Room \nLivestreamed at www.youtube.com/altadenalibrary
URL:https://carlasameth.com/event/altadena-poet-laureates-present-poetry-reading-carla-r-sameth-and-special-guests/
LOCATION:Altadena Main Library\, 600 East Mariposa Street\, Altadena\, CA\, 91001\, United States
ORGANIZER;CN="Carla R. Sameth and Peter J. Harris":MAILTO:carla@sameth.com
END:VEVENT
END:VCALENDAR