BEGIN:VCALENDAR
VERSION:2.0
PRODID:-//Carla Rachel Sameth - ECPv6.15.20//NONSGML v1.0//EN
CALSCALE:GREGORIAN
METHOD:PUBLISH
X-ORIGINAL-URL:https://carlasameth.com
X-WR-CALDESC:Events for Carla Rachel Sameth
REFRESH-INTERVAL;VALUE=DURATION:PT1H
X-Robots-Tag:noindex
X-PUBLISHED-TTL:PT1H
BEGIN:VTIMEZONE
TZID:America/Los_Angeles
BEGIN:DAYLIGHT
TZOFFSETFROM:-0800
TZOFFSETTO:-0700
TZNAME:PDT
DTSTART:20220313T100000
END:DAYLIGHT
BEGIN:STANDARD
TZOFFSETFROM:-0700
TZOFFSETTO:-0800
TZNAME:PST
DTSTART:20221106T090000
END:STANDARD
BEGIN:DAYLIGHT
TZOFFSETFROM:-0800
TZOFFSETTO:-0700
TZNAME:PDT
DTSTART:20230312T100000
END:DAYLIGHT
BEGIN:STANDARD
TZOFFSETFROM:-0700
TZOFFSETTO:-0800
TZNAME:PST
DTSTART:20231105T090000
END:STANDARD
BEGIN:DAYLIGHT
TZOFFSETFROM:-0800
TZOFFSETTO:-0700
TZNAME:PDT
DTSTART:20240310T100000
END:DAYLIGHT
BEGIN:STANDARD
TZOFFSETFROM:-0700
TZOFFSETTO:-0800
TZNAME:PST
DTSTART:20241103T090000
END:STANDARD
END:VTIMEZONE
BEGIN:VEVENT
DTSTART;TZID=America/Los_Angeles:20230119T170000
DTEND;TZID=America/Los_Angeles:20230119T183000
DTSTAMP:20260425T124649
CREATED:20230114T195042Z
LAST-MODIFIED:20230114T195042Z
UID:1077-1674147600-1674153000@carlasameth.com
SUMMARY:Pasadena Rose Poets Read From New Collection
DESCRIPTION:To celebrate their 6th anniversary in July 2022\, the Pasadena Rose Poets introduced Book No. 2\, Not so Perfect Storm. This journey was shaped by unchartered terrain which caused the group to keep adjusting and reinventing laced with a litany of surprising challenges\, chaos and change. Survival leans in as they look into a translucent future. Join them to learn more about their journey and their book.\n\n\nTo attend\, sign up at http://pasadena.evanced.info/signup/EventDetails…\n\n\nThursday\, Jan. 19 – 5 p.m. – Zoom\n\n\nPasadena Public Library event
URL:https://carlasameth.com/event/pasadena-rose-poets-read-from-new-collection/
LOCATION:Pasadena Central Library\, 285 E Walnut St\, Pasadena\, CA\, 91101
END:VEVENT
END:VCALENDAR