BEGIN:VCALENDAR
VERSION:2.0
PRODID:-//Carla Rachel Sameth - ECPv6.15.20//NONSGML v1.0//EN
CALSCALE:GREGORIAN
METHOD:PUBLISH
X-WR-CALNAME:Carla Rachel Sameth
X-ORIGINAL-URL:https://carlasameth.com
X-WR-CALDESC:Events for Carla Rachel Sameth
REFRESH-INTERVAL;VALUE=DURATION:PT1H
X-Robots-Tag:noindex
X-PUBLISHED-TTL:PT1H
BEGIN:VTIMEZONE
TZID:America/Los_Angeles
BEGIN:DAYLIGHT
TZOFFSETFROM:-0800
TZOFFSETTO:-0700
TZNAME:PDT
DTSTART:20210314T100000
END:DAYLIGHT
BEGIN:STANDARD
TZOFFSETFROM:-0700
TZOFFSETTO:-0800
TZNAME:PST
DTSTART:20211107T090000
END:STANDARD
BEGIN:DAYLIGHT
TZOFFSETFROM:-0800
TZOFFSETTO:-0700
TZNAME:PDT
DTSTART:20220313T100000
END:DAYLIGHT
BEGIN:STANDARD
TZOFFSETFROM:-0700
TZOFFSETTO:-0800
TZNAME:PST
DTSTART:20221106T090000
END:STANDARD
BEGIN:DAYLIGHT
TZOFFSETFROM:-0800
TZOFFSETTO:-0700
TZNAME:PDT
DTSTART:20230312T100000
END:DAYLIGHT
BEGIN:STANDARD
TZOFFSETFROM:-0700
TZOFFSETTO:-0800
TZNAME:PST
DTSTART:20231105T090000
END:STANDARD
END:VTIMEZONE
BEGIN:VEVENT
DTSTART;TZID=America/Los_Angeles:20220713T170000
DTEND;TZID=America/Los_Angeles:20220713T193000
DTSTAMP:20260425T210604
CREATED:20220711T201809Z
LAST-MODIFIED:20220711T201809Z
UID:931-1657731600-1657740600@carlasameth.com
SUMMARY:Writing Workshop\, Reproductive Writes
DESCRIPTION:Dear ART of Infertility Friends: \nIn the wake of the Dobbs Supreme Court decision\, the ART of Infertility will lead a writing workshop inviting participants to reflect on the intersections of reproductive rights\, reproductive health\, and the ability to access services to build one’s family. What does the Dobbs Supreme Court decision mean for those who need access to reproductive healthcare\, infertility treatment\, and other alternative family building options? Join us on Wednesday\, July 13th at 8pm EDT for a generative writing workshop. \nRegister at: https://tinyurl.com/reprowrites \nQuestions? Email info@artofinfertility.org
URL:https://carlasameth.com/event/writing-workshop-reproductive-writes/
LOCATION:Zoom\, see registration link in description
END:VEVENT
END:VCALENDAR